BEGIN:VCALENDAR
VERSION:2.0
PRODID:spatie/icalendar-generator
DESCRIPTION:Events from UCF Student Council
X-WR-CALDESC:Events from UCF Student Council
REFRESH-INTERVAL;VALUE=DURATION:PT1440M
X-PUBLISHED-TTL:PT1440M
BEGIN:VTIMEZONE
TZID:Etc/GMT+0
BEGIN:STANDARD
DTSTART:20230608T180000Z
TZOFFSETFROM:+0000
TZOFFSETTO:+0000
END:STANDARD
END:VTIMEZONE
BEGIN:VTIMEZONE
TZID:UTC
BEGIN:STANDARD
DTSTART:20250723T143604Z
TZOFFSETFROM:+0000
TZOFFSETTO:+0000
END:STANDARD
END:VTIMEZONE
BEGIN:VEVENT
UID:55-18
DTSTAMP:20260419T143604Z
SUMMARY:Feminism 2 Go
LOCATION:
ORGANIZER;CN=Student_Council:MAILTO:studentscouncil@ucf.uni-freiburg.de
RRULE:FREQ=WEEKLY;UNTIL=20240318T000000Z
DTSTART;TZID=Etc/GMT+0:20240304T180000
DTEND;TZID=Etc/GMT+0:20240304T190000
X-ALT-DESC;FMTTYPE=TEXT/HTML:
CATEGORIES:Committees
URL;VALUE=URI:https://studentscouncil.de/mc-events/feminism-2-go/?mc_id=55
METHOD:PUBLISH
END:VEVENT
END:VCALENDAR